BEGIN:VCALENDAR
VERSION:2.0
PRODID:-//Vereinigung Mittelständischer Bauunternehmen Hessen-Thüringen e.V. - ECPv6.15.20//NONSGML v1.0//EN
CALSCALE:GREGORIAN
METHOD:PUBLISH
X-ORIGINAL-URL:https://vmbht.de
X-WR-CALDESC:Veranstaltungen für Vereinigung Mittelständischer Bauunternehmen Hessen-Thüringen e.V.
REFRESH-INTERVAL;VALUE=DURATION:PT1H
X-Robots-Tag:noindex
X-PUBLISHED-TTL:PT1H
BEGIN:VTIMEZONE
TZID:UTC
BEGIN:STANDARD
TZOFFSETFROM:+0000
TZOFFSETTO:+0000
TZNAME:UTC
DTSTART:20240101T000000
END:STANDARD
END:VTIMEZONE
BEGIN:VEVENT
DTSTART;TZID=UTC:20250205T090000
DTEND;TZID=UTC:20250205T123000
DTSTAMP:20260423T103617
CREATED:20241230T094736Z
LAST-MODIFIED:20241230T120146Z
UID:2497-1738746000-1738758600@vmbht.de
SUMMARY:Online-Praxisseminar Bauarbeitsrecht - kompetent und auf den Punkt!
DESCRIPTION:Die Kenntnis arbeitsrechtlicher Grundlagen ist die Basis guter Personalarbeit. Unvorsichtiges Handeln\, fehlerhafte Formulierungen oder voreilige Zusagen führen oft zu Streitigkeiten und finanziellen Nachteilen.Das Online-Seminar\, das in zwei Teilen stattfindet\, informiert über die Rahmenbedingungen des Bauarbeitsrechtes und wichtige tarifvertragliche sowie gesetzliche Änderungen. Aktuelle Rechtsprechung wird mit Blick auf die Besonderheiten im Bauhauptgewerbe eingeordnet. \nZielgruppe\nMitarbeiter in der operativen Personalarbeit\, Personalsachbearbeiter und Lohnbuchhalter \nTermine\nTeil 1: 05.02.2025 + Teil 2: 12.02.2025sowieTeil 1: 18.02.2025 + Teil 2: 25.02.2025 \nThemen/Inhalte\nThemenschwerpunkte:• TARIFRECHT: Abschluss für 2025: Löhne\, Gehälter\, Ausbildungsvergütung• AKTUELL: Voraussetzungen für konjunkturelle Kurzarbeit im Betrieb• NEU: Urlaub wichtiger als Arbeiten – das fordert die neue Rechtsprechung• NEU: ständig Änderungen beim Mindestlohn & Auswirkungen auf Teilzeitkräfte• UPDATE: Arbeitszeitflex-Regelungen im Betrieb – Vorteile und Nachteile; neue Rechtsprechung zu Überstundenzuschlägen bei Teilzeitarbeit• UPDATE: Pflicht zur Dokumentation von Arbeitszeit\, Überstunden\, Erschwernissen• UPDATE: Umgang mit Aushilfen\, Ferienjobbern & Praktikanten• SCHWERPUNKT: Umgang mit erkrankten Mitarbeitern – eAU\, Langzeiterkrankte\, BEM\, Schwerbehinderung\, krankheitsbedingte Kündigung• SCHWERPUNKT: Schriftverkehr und Dokumentation – Schriftform & Social-Media-Kommunikation\, Zustellung von Schriftstücken & Anträgen; Nachweis des Zugangs; Unterschrift u.a.• KURZ UND KNAPP: Nachweisgesetz in der Praxis – Umgang mit bestehenden Arbeitsverhältnissen & Empfehlungen für neue Arbeitsverträge \nReferenten\nMarkus Lamberty\, LL.MRechtsanwaltFachanwalt für ArbeitsrechtVerband baugewerblicher Unternehmer Hessen e. V.\, FrankfurtHerr Lamberty ist seit 1999 insbesondere mit den Schwerpunkten Bauvertragsrecht sowie Arbeits- und Tarifrecht betraut. Nach erfolgreichem Abschluss des Studiengangs für Baurecht und Baubegleitung – von der Projektentwicklung bis zur Streitbeilegung verlieh ihm die Philipps-Universität Marburg 2016 den akademischen Grad Master of Laws (LL.M.). \nVeranstaltungsort\nonline \nSeminar-Zeiten\njeweils 09.00 Uhr bis ca. 12.30 Uhr \nSeminargebühr\nFür Mitglieder des Verbandes baugewerblicher Unternehmer Hessen e. V. und der Vereinigung mittelständischer Bauunternehmen Hessen-Thüringen e. V. (früher: Baugewerbeverband Hessen-Thüringen e. V.) beträgt die Teilnahme an einem Seminar in zwei Teilen pro Person nur 195\,00 Euro zzgl. Umsatzsteuer.Nichtmitglieder zahlen pro Person 295\,00 Euro zzgl. Umsatzsteuer.Bei Rückfragen steht Ihnen Markus Lamberty\, Telefon: 069 / 9 58 09-160\, E-Mail: lamberty@bgvht.de\, gerne zur Verfügung.
URL:https://vmbht.de/event/online-praxisseminar-bauarbeitsrecht-kompetent-und-auf-den-punkt/
LOCATION:online
CATEGORIES:Veranstaltungen
ATTACH;FMTTYPE=image/jpeg:https://vmbht.de/wp-content/uploads/2024/12/student-849825_1920.jpg
END:VEVENT
END:VCALENDAR