BEGIN:VCALENDAR
VERSION:2.0
PRODID:-//Vereinigung Mittelständischer Bauunternehmen Hessen-Thüringen e.V. - ECPv6.15.20//NONSGML v1.0//EN
CALSCALE:GREGORIAN
METHOD:PUBLISH
X-ORIGINAL-URL:https://vmbht.de
X-WR-CALDESC:Veranstaltungen für Vereinigung Mittelständischer Bauunternehmen Hessen-Thüringen e.V.
REFRESH-INTERVAL;VALUE=DURATION:PT1H
X-Robots-Tag:noindex
X-PUBLISHED-TTL:PT1H
BEGIN:VTIMEZONE
TZID:UTC
BEGIN:STANDARD
TZOFFSETFROM:+0000
TZOFFSETTO:+0000
TZNAME:UTC
DTSTART:20250101T000000
END:STANDARD
END:VTIMEZONE
BEGIN:VEVENT
DTSTART;TZID=UTC:20260602T090000
DTEND;TZID=UTC:20260602T123000
DTSTAMP:20260420T113122
CREATED:20260402T082049Z
LAST-MODIFIED:20260402T082049Z
UID:2715-1780390800-1780403400@vmbht.de
SUMMARY:Online-Seminar - Basics im Arbeitsrecht Teil 1
DESCRIPTION:Die Kenntnis arbeits-\, sozial- sowie tarifrechtlicher Grundlagen ist die Basis der täglichen Personalarbeit. Fehlerhafte Einschätzungen\, unklare Formulierungen oder voreilige Zusagen führen oft zu vermeidbaren Streitigkeiten und finanziellen Nachteilen.Das Online-Seminar\, das über Teams in zwei Teilen stattfindet\, informiert über die Basics des Arbeitsrechtes und wichtige tarifvertragliche sowie gesetzliche Änderungen. Aktuelle Rechtsprechung wird mit Blick auf die Besonderheiten im mittelständischen Baubetrieb eingeordnet. \nZielgruppe\nMitarbeiter in der operativen Personalarbeit\, Personalsachbearbeiter und Lohnbuchhalter \nTermine\nTeil 1: Dienstag\, 05.05.2026 + Teil 2: Dienstag\, 19.05.2026sowie inhaltsgleichTeil 1: Dienstag\, 02.06.2026 + Teil 2: Dienstag\, 09.06.2026 \nThemen/Inhalte\nThemenschwerpunkte:• TARIFRECHT: Bau-Tarifverträge – Welche gelten in meinem Betrieb?• AKTUELL: Blick auf die kommenden Tarifverhandlungen• AKTUELL: Risiko Scheinselbständigkeit im Baugewerbe – das kann teuer werden• AKTUELL: Weiterbeschäftigung von Rentnern – ohne böses Erwachen• UPDATE: Arbeitszeitflex-Regelungen im Betrieb – ganzjähriger Zugriff auf das AZK ohne Stress beim Saison-Kug• UPDATE: Dokumentation von Arbeitszeit\, Überstunden\, Erschwernissen• UPDATE: Umgang mit Aushilfen\, Ferienjobbern & Praktikanten• SCHWERPUNKT: Umgang mit erkrankten Mitarbeitern – betriebliches Eingliederungsmanagement (BEM)\, Schwerbehinderung\, krankheitsbedingte Kündigung• SCHWERPUNKT: Kündigung von Arbeitsverhältnissen\, Voraussetzungen\, Schriftverkehr und Dokumentation• KURZ UND KNAPP: Nachweisgesetz in der Praxis – Umgang mit bestehenden Arbeitsverhältnissen & Empfehlungen für neue Arbeitsverträge \nReferenten\nMarkus Lamberty\, LL.MRechtsanwalt und Fachanwalt für ArbeitsrechtVerband baugewerblicher Unternehmer Hessen e. V.\, Frankfurt \nVeranstaltungsort\nonline \nSeminar-Zeiten\njeweils 09.00 Uhr bis ca. 12.30 Uhr \nSeminargebühr\nFür Mitglieder des Verbandes baugewerblicher Unternehmer Hessen e. V. und der Vereinigung mittelständischer Bauunternehmen Hessen-Thüringen e. V. (früher: Baugewerbeverband Hessen-Thüringen e. V.) beträgt die Teilnahme an einem Seminar in zwei Teilen pro Person nur 260\,00 Euro zzgl. Umsatzsteuer.Nichtmitglieder zahlen pro Person 360\,00 Euro zzgl. Umsatzsteuer.Bei Rückfragen steht Ihnen Markus Lamberty\, Telefon: 069 / 9 58 09-160\, E-Mail: lamberty@bgvht.de\, gerne zur Verfügung. \nZur Anmeldung: Bauunternehmensberatung Hessen-Thüringen GmbH
URL:https://vmbht.de/event/online-seminar-basics-im-arbeitsrecht-teil-1/
CATEGORIES:Veranstaltungen
ATTACH;FMTTYPE=image/jpeg:https://vmbht.de/wp-content/uploads/2026/01/audit-3929140_1280.jpg
END:VEVENT
END:VCALENDAR