BEGIN:VCALENDAR
VERSION:2.0
PRODID:-//Vereinigung Mittelständischer Bauunternehmen Hessen-Thüringen e.V. - ECPv6.15.20//NONSGML v1.0//EN
CALSCALE:GREGORIAN
METHOD:PUBLISH
X-ORIGINAL-URL:https://vmbht.de
X-WR-CALDESC:Veranstaltungen für Vereinigung Mittelständischer Bauunternehmen Hessen-Thüringen e.V.
REFRESH-INTERVAL;VALUE=DURATION:PT1H
X-Robots-Tag:noindex
X-PUBLISHED-TTL:PT1H
BEGIN:VTIMEZONE
TZID:UTC
BEGIN:STANDARD
TZOFFSETFROM:+0000
TZOFFSETTO:+0000
TZNAME:UTC
DTSTART:20250101T000000
END:STANDARD
END:VTIMEZONE
BEGIN:VEVENT
DTSTART;TZID=UTC:20260910T123000
DTEND;TZID=UTC:20260910T190000
DTSTAMP:20260420T142652
CREATED:20250211T120000Z
LAST-MODIFIED:20260402T082721Z
UID:2572-1789043400-1789066800@vmbht.de
SUMMARY:save the date: Mitgliederversammlung 2026 in Eisenach
DESCRIPTION:Mitgliederversammlung der Vereinigung mittelständischer Bauunternehmen Hessen-Thüringen e.V. \nBitte merken Sie den Termin bereits heute vor. \nDie Einladung erfolgt postalisch.
URL:https://vmbht.de/event/mitgliederversammlung-2025-in-friedewald-bad-hersfeld/
LOCATION:Wartburgarena\, AWE-Gelände Gartenstraße/Frankfurter Straße\, Eisenach\, 99817
CATEGORIES:Veranstaltungen
ATTACH;FMTTYPE=image/png:https://vmbht.de/wp-content/uploads/2024/04/favicon.png
END:VEVENT
END:VCALENDAR