BEGIN:VCALENDAR
VERSION:2.0
PRODID:-//Vereinigung Mittelständischer Bauunternehmen Hessen-Thüringen e.V. - ECPv6.15.20//NONSGML v1.0//EN
CALSCALE:GREGORIAN
METHOD:PUBLISH
X-WR-CALNAME:Vereinigung Mittelständischer Bauunternehmen Hessen-Thüringen e.V.
X-ORIGINAL-URL:https://vmbht.de
X-WR-CALDESC:Veranstaltungen für Vereinigung Mittelständischer Bauunternehmen Hessen-Thüringen e.V.
REFRESH-INTERVAL;VALUE=DURATION:PT1H
X-Robots-Tag:noindex
X-PUBLISHED-TTL:PT1H
BEGIN:VTIMEZONE
TZID:UTC
BEGIN:STANDARD
TZOFFSETFROM:+0000
TZOFFSETTO:+0000
TZNAME:UTC
DTSTART:20230101T000000
END:STANDARD
END:VTIMEZONE
BEGIN:VEVENT
DTSTART;TZID=UTC:20240919T090000
DTEND;TZID=UTC:20240919T163000
DTSTAMP:20260425T122937
CREATED:20240614T104531Z
LAST-MODIFIED:20240628T130913Z
UID:1953-1726736400-1726763400@vmbht.de
SUMMARY:Nachträge? Damit müssen Sie rechnen! Effektives Nachtragsmanagement
DESCRIPTION:Änderungen des vertraglich geschuldeten Bausolls sind an der Tagesordnung\, doch häufig beginnen damit die Probleme und der Ärger. Wie Sie das Thema Nachträge strukturiert und zielsicher angehen und zukünftig für Ihr Unternehmen positiv nutzen können\, erfahren Sie in diesem Tagesseminar von einem ausgewiesenen Experten. \nZielgruppe\nUnternehmer\, Geschäftsführer\, Fach- und Führungskräfte\, Bauleiter\, Kalkulatoren\, Projektleiter sowie Bauträger und Auftraggebervertreter \nThemen/Inhalte\nSchwerpunkte des Seminars sind:Grundlagen der Kalkulation• Zusammensetzung des Baupreises (Einzelkosten der Teilleistung\, Baustellengemeinkosten\, Allgemeine Geschäftskosten\, Wagnis + Gewinn)• Ermittlung des Baupreises• Unterschiedliche Kalkulationsarten (Nullkalkulation\, Angebotskalkulation\, Arbeitskalkulation\, Nachkalkulation)• Die „Urkalkulation“• Was\, wenn es keine Urkalkulation gibt?Die EFB-Preisblätter• Grundsätzliche Systematik• EFB 221 und 222 (Preis 1 und Preis 2)• Wie verträgt sich das mit der Kalkulation?Nachtragskalkulation: Aufnahme erschwerter Umstände zur gewinnorientierten Gestaltung• Mengenänderungen (§ 2 Nr. 3 VOB/B)• Geänderte / zusätzliche Leistungen (§ 2 Nr. 5\, 6 VOB/B)• Spekulative Unterpreise• Kalkulationsirrtümer• Nachträge beim PauschalpreisvertragGrundlagenorientierter Fachvortrag mit Fragestellungen.Profitieren Sie von der langjährigen Erfahrung des Referenten und erhalten Sie durch Ihre Teilnahme wertvolles Wissen\, das Sie sofort in Ihrem Betrieb umsetzen können. \nReferenten\nHerr Dr. Rüggeberg ist Gesellschafter der CON.partners Rüggeberg Schubert Volke Architekt und Beratende Ingenieure Partnerschaft mbB\, Wuppertal. Er ist insbesondere in der Projektsteuerung\, als Baubetreuer und im Baukrisenmanagement tätig.Dr. Rüggeberg wurde in 2010 von der IHK Wuppertal-Solingen-Remscheid zum öffentlich bestellten und vereidigten Sachverständigen für Baupreisermittlung und Abrechnung\, Bauablaufstörungen bestellt. Er ist Dozent an der Bergischen Universität Wuppertal und vermittelt sein Fachwissen praxisgerecht in Vorträgen und Seminaren – seit Oktober 2019 auch bei uns. \nVeranstaltungsort\nVereinigung mittelständischer Bauunternehmen Hessen-Thüringen e.V.Emil-von-Behring-Straße 560439 Frankfurt am Main \nSeminar-Zeiten\n9:00 Uhr bis ca. 16:30 Uhr \nSeminargebühr\nVorzugspreis:Für Mitglieder des Verbandes baugewerblicher Unternehmer Hessen e. V. und des Baugewerbeverbandes Hessen-Thüringen e.V. beträgt die Teilnahme pro Person nur 295\,00 Euro zzgl. Umsatzsteuer.Nichtmitglieder zahlen pro Person 395\,00 Euro zzgl. Umsatzsteuer.Im Preis enthalten sind: Seminarunterlagen und die Verpflegung während der Veranstaltung. \nDie Veranstaltung wird von der Bauunternehmensberatung Hessen-Thüringen durchgeführt. \nZur Anmeldung
URL:https://vmbht.de/event/nachtraege-damit-muessen-sie-rechnen-effektives-nachtragsmanagement/
LOCATION:Frankfurt am Main\, Emil-von-Behring-Straße 5\, Frankfurt\, 60439\, Deutschland
CATEGORIES:Veranstaltungen
END:VEVENT
BEGIN:VEVENT
DTSTART;TZID=UTC:20240924T090000
DTEND;TZID=UTC:20240924T160000
DTSTAMP:20260425T122937
CREATED:20240614T110434Z
LAST-MODIFIED:20240628T130608Z
UID:1957-1727168400-1727193600@vmbht.de
SUMMARY:Kommunikation und Mitarbeiterführung auf der Baustelle und im Büro
DESCRIPTION:Eine reibungslose und somit erfolgreiche Zusammenarbeit auf der Baustelle und im Büro ist nur dann möglich\, wenn die Kommunikation stimmt. Daher lohnt es sich für alle Führungskräfte\, sich mit den eigenen Stärken und Schwächen in Sachen Kommunikation auseinanderzusetzen\, um schlussendlich überzeugend\, durchsetzungsstark und gleichzeitig motivierend mit Mitarbeitern\, Geschäftspartnern und Kunden umgehen zu können. \nZielgruppe\nUnternehmer\, Geschäftsführer\, Projektleiter\, Bauleiter\, Poliere\, Vorarbeiter\, Kalkulatoren\, Einkäufer\, Ausbilder\, Fach- und Führungskräfte\, kaufmännische und technische Sachbearbeiter.Für alle\, die ihre Kommunikation im hektischen Arbeitsalltag verbessern wollen und zukünftig überzeugend\, durchsetzungsstark\, aber auch motivierend auftreten möchten \nThemen/Inhalte\n\nKommunikation – ein Buch mit sieben Siegeln? Grundlagen zum kommunikativen Miteinander von Menschen\nDer erste Eindruck – warum er so wichtig ist\, und warum der zweite Eindruck schlussendlich zählt\nDie Grundelemente erfolgreicher Kommunikation: gezielt fragen – aktiv zuhören – aufmerksam beobachten\nAllgemeingültige Kommunikationsregeln für jede Situation: persönlich – geradeheraus – kurz und knapp – rechtzeitig\nAuch schwierige Gesprächssituationen meistern: Der richtige Umgang mit komplizierten Zeitgenossen mit Selbstbeherrschung\, Verhandlungsgeschick und Durchsetzungsvermögen\, z.B.– wenn Sie als Streitschlichter gefragt sind– wenn Sie um kritische Worte nicht herumkommen– wenn jemand immer wieder die gleichen Einwände bringt\n\n\nZeitfresser Baubesprechungen – schlecht vorbereitet und ausufernd? Wie es trotz Stress und Druck besser geht …\n\nReferenten\nDipl.-Betriebswirtin Jana Janßen arbeitet nach Tätigkeiten als Beratungsassistentin und Personalleiterin seit 2008 selbstständig als Trainerin und Coach für Kommunikationsprozesse und hat inzwischen eine Vielzahl von Inhouse-Schulungen in namhaften Bauunternehmen sowie Fort- und Weiterbildungen für Institutionen der Bauwirtschaft durchgeführt. Sie kennt die Besonderheiten des Bauhauptgewerbes\, vermittelt ihr Wissen praxisgerecht und hat die Teilnehmer unserer ersten Seminare im Jahr 2019 durch ihre Kompetenz überzeugt. \nVeranstaltungsort\nVereinigung mittelständischer Bauunternehmen Hessen-Thüringen e.V.Emil-von-Behring-Straße 560439 Frankfurt am Main \n\nHinweis\nMax. 16 Teilnehmer: Kleine Gruppe – großer Lernerfolg! Sichern Sie sich Ihre Teilnahme schon heute. \nZur Anmeldung \nDas Seminar wird von der Bauunternehmensberatung Hessen-Thüringen durchgeführt.
URL:https://vmbht.de/event/kommunikation-und-mitarbeiterfuehrung-auf-der-baustelle-und-im-buero/
CATEGORIES:Veranstaltungen
END:VEVENT
END:VCALENDAR