BEGIN:VCALENDAR
VERSION:2.0
PRODID:-//Vereinigung Mittelständischer Bauunternehmen Hessen-Thüringen e.V. - ECPv6.15.20//NONSGML v1.0//EN
CALSCALE:GREGORIAN
METHOD:PUBLISH
X-WR-CALNAME:Vereinigung Mittelständischer Bauunternehmen Hessen-Thüringen e.V.
X-ORIGINAL-URL:https://vmbht.de
X-WR-CALDESC:Veranstaltungen für Vereinigung Mittelständischer Bauunternehmen Hessen-Thüringen e.V.
REFRESH-INTERVAL;VALUE=DURATION:PT1H
X-Robots-Tag:noindex
X-PUBLISHED-TTL:PT1H
BEGIN:VTIMEZONE
TZID:UTC
BEGIN:STANDARD
TZOFFSETFROM:+0000
TZOFFSETTO:+0000
TZNAME:UTC
DTSTART:20250101T000000
END:STANDARD
END:VTIMEZONE
BEGIN:VTIMEZONE
TZID:Europe/Berlin
BEGIN:DAYLIGHT
TZOFFSETFROM:+0100
TZOFFSETTO:+0200
TZNAME:CEST
DTSTART:20250330T010000
END:DAYLIGHT
BEGIN:STANDARD
TZOFFSETFROM:+0200
TZOFFSETTO:+0100
TZNAME:CET
DTSTART:20251026T010000
END:STANDARD
BEGIN:DAYLIGHT
TZOFFSETFROM:+0100
TZOFFSETTO:+0200
TZNAME:CEST
DTSTART:20260329T010000
END:DAYLIGHT
BEGIN:STANDARD
TZOFFSETFROM:+0200
TZOFFSETTO:+0100
TZNAME:CET
DTSTART:20261025T010000
END:STANDARD
BEGIN:DAYLIGHT
TZOFFSETFROM:+0100
TZOFFSETTO:+0200
TZNAME:CEST
DTSTART:20270328T010000
END:DAYLIGHT
BEGIN:STANDARD
TZOFFSETFROM:+0200
TZOFFSETTO:+0100
TZNAME:CET
DTSTART:20271031T010000
END:STANDARD
END:VTIMEZONE
BEGIN:VEVENT
DTSTART;TZID=UTC:20260121T110000
DTEND;TZID=UTC:20260121T123000
DTSTAMP:20260420T181140
CREATED:20251222T072217Z
LAST-MODIFIED:20251222T072217Z
UID:2681-1768993200-1768998600@vmbht.de
SUMMARY:Online-Infoveranstaltung: Bauen für die Bundeswehr in Hessen und Thüringen
DESCRIPTION:Allgemeiner Überblick zu Infrastrukturbedarfen \nWerfen Sie einen Blick hinter den Kasernenzaun: Gewinnen Sie einen Einblick in das Infrastrukturportfolio der Bundeswehr in Hessen und Thüringen. \nAm 21. Januar um 11 Uhr. \nKompetenzzentren stellen sich vor und geben einen Überblick über aktuelle Entwicklungen im Bereich der Infrastruktur der Bundesswehr sowie einen Überblick über die Vielfalt der Infrastrukturvorhaben. Die Landesbauverwaltungen stehen als Ansprechpartner zur Verfügung und informieren zu Vergaben. \nReferentInnen: Bundesamt für Infrastruktur\, Umweltschutz und Dienstleistungen der Bundeswehr (BAIUDBw); Kompetenzzentren Baumanagement Wiesbaden & Strausberg; Oberfinanzdirektion Frankfurt am Main\, TMDI Thüringen. \nWeitere Informationen folgen in Kürze. \nZur Anmeldung>
URL:https://vmbht.de/event/online-infoveranstaltung-bauen-fuer-die-bundeswehr-in-hessen-und-thueringen/
CATEGORIES:Veranstaltungen
END:VEVENT
BEGIN:VEVENT
DTSTART;TZID=Europe/Berlin:20260128T090000
DTEND;TZID=Europe/Berlin:20260128T120000
DTSTAMP:20260420T181140
CREATED:20251113T114803Z
LAST-MODIFIED:20251113T114803Z
UID:2677-1769590800-1769601600@vmbht.de
SUMMARY:Online-Seminar - ''In einem Ritt durch die VOB/B unter Berücksichtigung aktueller Rechtsprechung''
DESCRIPTION:Das praxisnahe Online-Seminar beinhaltet die wichtigsten Themen rund um die VOB/B und stellt die aktuelle Rechtsprechung des Bundesgerichtshofs und der Oberlandesgerichte zu den jeweiligen §§ vor. Aus der Beratung unserer Mitglieder wissen wir\, welche Themen und Probleme von Relevanz sind. Weniger juristisch dafür mit vielen praktischen Tipps geben wir einen komprimierten Überblick zu den genannten Themen. \nAnmeldung unter: Bauunternehmensberatung Hessen-Thüringen GmbH \nZielgruppe\nGeschäftsführer und Inhaber von Bauunternehmen\, Mitarbeiter der technischen oder kaufmännischen Abteilungen\, Kalkulatoren\, Bauleiter und Poliere \nTermine\nMittwoch\, 28.01.2026\, 9.00 Uhr bis 12:15 Uhr (inkl. Pause) \nThemen/Inhalte\n– Bau-Soll und Vergütung– Ausführungsunterlagen und Bedenkenanmeldung– Bauzeit und Baubehinderung– Kündigung des Bauvertrages– Abnahme und Mängelhaftung– Abrechnung der Leistung und Leistungseinstellung \nReferenten\nAnika AmbergRechtsanwältinFachanwältin für Bau- und ArchitektenrechtVerband baugewerblicher Unternehmer Hessen e. V.\, FrankfurtFrau Amberg berät seit vielen Jahren Bauunternehmen und Handwerksbetriebe. Als erfahrene Rechtsanwältin kennt sie die rechtlichen Probleme und Hürden der gerichtlichen Durchsetzung von Ansprüchen. Frau Amberg ist Dozentin an der Fachhochschule Erfurt und hält regelmäßig Vorträge bei der Handwerkskammer Erfurt. \nVeranstaltungsort\nonline \nSeminargebühr\nFür Mitglieder des Verbandes baugewerblicher Unternehmer Hessen e. V. und der Vereinigung mittelständischer Bauunternehmen Hessen-Thüringen e. V. (früher: Baugewerbeverband Hessen-Thüringen e. V.) beträgt die Gebühr für die Seminarteilnahme pro Person 85\,00 Euro zzgl. Umsatzsteuer.Nichtmitglieder zahlen pro Person 125\,00 Euro zzgl. Umsatzsteuer.Bei Rückfragen steht Ihnen Frau Amberg\, Telefon: 069 / 9 58 09-350\, E-Mail: amberg@bgvht.de\, gerne zur Verfügung. \nMeldeschluss\n21. Januar 2026 \nAnmeldung unter: Bauunternehmensberatung Hessen-Thüringen GmbH
URL:https://vmbht.de/event/online-seminar-in-einem-ritt-durch-die-vob-b-unter-beruecksichtigung-aktueller-rechtsprechung/
CATEGORIES:Veranstaltungen
END:VEVENT
END:VCALENDAR